BEGIN:VCALENDAR
METHOD:PUBLISH
CALSCALE:GREGORIAN
PRODID:-//Microsoft Corporation//Outlook 12.0 MIMEDIR//EN
VERSION:2.0
BEGIN:VEVENT
DTSTART;VALUE=DATE:20260420
DTEND;VALUE=DATE:20260421
SEQUENCE:0
UID:202604201234567890
DTSTAMP:20260420
SUMMARY;LANGUAGE=sv:GTR Motorpark - Gröndal -  GTR Motorpark
LOCATION:GTR Motorpark - Gröndal
DESCRIPTION:GTR Motorpark - Gröndal -  GTR Motorpark - - - - Baninfo inklusive GPS-koordinater: www.rejsa.nu/bana_info.asp?grondal
CLASS:PUBLIC
END:VEVENT
END:VCALENDAR
