BEGIN:VCALENDAR
METHOD:PUBLISH
CALSCALE:GREGORIAN
PRODID:-//Microsoft Corporation//Outlook 12.0 MIMEDIR//EN
VERSION:2.0
BEGIN:VEVENT
DTSTART;VALUE=DATE:20260725
DTEND;VALUE=DATE:20260727
SEQUENCE:0
UID:202607251234567890
DTSTAMP:20260725
SUMMARY;LANGUAGE=sv:Rudskogen -  Porsche Club Sverige
LOCATION:Rudskogen
DESCRIPTION:Rudskogen -  Porsche Club Sverige - - - - Baninfo inklusive GPS-koordinater: www.rejsa.nu/bana_info.asp?rudskogen
CLASS:PUBLIC
END:VEVENT
END:VCALENDAR
