BEGIN:VCALENDAR
METHOD:PUBLISH
CALSCALE:GREGORIAN
PRODID:-//Microsoft Corporation//Outlook 12.0 MIMEDIR//EN
VERSION:2.0
BEGIN:VEVENT
DTSTART;VALUE=DATE:20260510
DTEND;VALUE=DATE:20260511
SEQUENCE:0
UID:202605101234567890
DTSTAMP:20260510
SUMMARY;LANGUAGE=sv:Lunda flygfält -  MX5 Racing Club
LOCATION:Lunda flygfält
DESCRIPTION:Lunda flygfält -  MX5 Racing Club - - - - Baninfo inklusive GPS-koordinater: www.rejsa.nu/bana_info.asp?lunda
CLASS:PUBLIC
END:VEVENT
END:VCALENDAR
