BEGIN:VCALENDAR
METHOD:PUBLISH
CALSCALE:GREGORIAN
PRODID:-//Microsoft Corporation//Outlook 12.0 MIMEDIR//EN
VERSION:2.0
BEGIN:VEVENT
DTSTART;VALUE=DATE:20260906
DTEND;VALUE=DATE:20260907
SEQUENCE:0
UID:202609061234567890
DTSTAMP:20260906
SUMMARY;LANGUAGE=sv:Lunda flygfält -  MX5 Racing Club
LOCATION:Lunda flygfält
DESCRIPTION:Lunda flygfält -  MX5 Racing Club - - - - Baninfo inklusive GPS-koordinater: www.rejsa.nu/bana_info.asp?lunda
CLASS:PUBLIC
END:VEVENT
END:VCALENDAR
