BEGIN:VCALENDAR
METHOD:PUBLISH
CALSCALE:GREGORIAN
PRODID:-//Microsoft Corporation//Outlook 12.0 MIMEDIR//EN
VERSION:2.0
BEGIN:VEVENT
DTSTART;VALUE=DATE:20260523
DTEND;VALUE=DATE:20260524
SEQUENCE:0
UID:202605231234567890
DTSTAMP:20260523
SUMMARY;LANGUAGE=sv:Salabanan -  MX5 Racing Club
LOCATION:Salabanan
DESCRIPTION:Salabanan -  MX5 Racing Club - - - - Baninfo inklusive GPS-koordinater: www.rejsa.nu/bana_info.asp?sala
CLASS:PUBLIC
END:VEVENT
END:VCALENDAR
