BEGIN:VCALENDAR
METHOD:PUBLISH
CALSCALE:GREGORIAN
PRODID:-//Microsoft Corporation//Outlook 12.0 MIMEDIR//EN
VERSION:2.0
BEGIN:VEVENT
DTSTART;VALUE=DATE:20260913
DTEND;VALUE=DATE:20260914
SEQUENCE:0
UID:202609131234567890
DTSTAMP:20260913
SUMMARY;LANGUAGE=sv:Kinnekulle Ring -  MX5 Racing Club
LOCATION:Kinnekulle Ring
DESCRIPTION:Kinnekulle Ring -  MX5 Racing Club - - - - Baninfo inklusive GPS-koordinater: www.rejsa.nu/bana_info.asp?kinnekulle
CLASS:PUBLIC
END:VEVENT
END:VCALENDAR
