BEGIN:VCALENDAR
METHOD:PUBLISH
CALSCALE:GREGORIAN
PRODID:-//Microsoft Corporation//Outlook 12.0 MIMEDIR//EN
VERSION:2.0
BEGIN:VEVENT
DTSTART;VALUE=DATE:20260606
DTEND;VALUE=DATE:20260607
SEQUENCE:0
UID:202606061234567890
DTSTAMP:20260606
SUMMARY;LANGUAGE=sv:Lunda flygfält -  Honda Perfomance Club
LOCATION:Lunda flygfält
DESCRIPTION:Lunda flygfält -  Honda Perfomance Club - - - - Baninfo inklusive GPS-koordinater: www.rejsa.nu/bana_info.asp?lunda
CLASS:PUBLIC
END:VEVENT
END:VCALENDAR
